BEGIN:VCALENDAR
PRODID:-//eluceo/ical//2.0/EN
VERSION:2.0
CALSCALE:GREGORIAN
BEGIN:VEVENT
UID:10302ef15f43f970bddf47091c4ca51b
DTSTAMP:20260423T180806Z
SUMMARY:Förderung der Wiedervernässung und nachhaltigen Nutzung von Moorb
 öden: das Förderprogramm Palu
DESCRIPTION:Seminar zum ANK-Förderprogramm Palu „Maßnahmen zur dauerhaf
 ten und weitgehenden Wiedervernässung land- und forstwirtschaftlich genut
 zter Moorböden und zur Unterstützung der land- und forstwirtschaftlichen
  Nutzung wiedervernässter Moorbodenflächen“
DTSTART:20260429T100000
DTEND:20260429T120000
LOCATION:Zoom
END:VEVENT
END:VCALENDAR
